BEGIN:VCALENDAR
VERSION:2.0
PRODID:-//Virginia Working Landscapes - ECPv6.15.20//NONSGML v1.0//EN
CALSCALE:GREGORIAN
METHOD:PUBLISH
X-ORIGINAL-URL:https://www.vaworkinglandscapes.org
X-WR-CALDESC:Events for Virginia Working Landscapes
REFRESH-INTERVAL;VALUE=DURATION:PT1H
X-Robots-Tag:noindex
X-PUBLISHED-TTL:PT1H
BEGIN:VTIMEZONE
TZID:America/New_York
BEGIN:DAYLIGHT
TZOFFSETFROM:-0500
TZOFFSETTO:-0400
TZNAME:EDT
DTSTART:20220313T070000
END:DAYLIGHT
BEGIN:STANDARD
TZOFFSETFROM:-0400
TZOFFSETTO:-0500
TZNAME:EST
DTSTART:20221106T060000
END:STANDARD
BEGIN:DAYLIGHT
TZOFFSETFROM:-0500
TZOFFSETTO:-0400
TZNAME:EDT
DTSTART:20230312T070000
END:DAYLIGHT
BEGIN:STANDARD
TZOFFSETFROM:-0400
TZOFFSETTO:-0500
TZNAME:EST
DTSTART:20231105T060000
END:STANDARD
BEGIN:DAYLIGHT
TZOFFSETFROM:-0500
TZOFFSETTO:-0400
TZNAME:EDT
DTSTART:20240310T070000
END:DAYLIGHT
BEGIN:STANDARD
TZOFFSETFROM:-0400
TZOFFSETTO:-0500
TZNAME:EST
DTSTART:20241103T060000
END:STANDARD
END:VTIMEZONE
BEGIN:VEVENT
DTSTART;TZID=America/New_York:20230929T093000
DTEND;TZID=America/New_York:20230929T113000
DTSTAMP:20260420T095543
CREATED:20230914T164705Z
LAST-MODIFIED:20230914T164949Z
UID:7091-1695979800-1695987000@www.vaworkinglandscapes.org
SUMMARY:Community Conservation Walk
DESCRIPTION:Come join neighbors on a fun and educational walk showcasing a suite of conservation practices underway on a Piedmont landscape. This is a knowledge-sharing event led by Smithsonian’s Virginia Working Landscapes and The Piedmont Environmental Council. \nDress for the weather and walking on trails. Light refreshments provided. \nReserve your spot here \nQuestions? Contact Justin Proctor at: \nProctorCJ@si.edu or 607-229-6255
URL:https://www.vaworkinglandscapes.org/event/community-conservation-walk/
LOCATION:Steve Seelig & Charlet Wang’s Property\, 10467 Vernon Mills Trail\, Marshall\, VA\, 20115\, United States
ORGANIZER;CN="Virginia Working Landscapes":MAILTO:SCBIVWL@si.edu
END:VEVENT
END:VCALENDAR